BEGIN:VCALENDAR
VERSION:2.0
PRODID:-//eventon.com NONSGML v1.0//EN
BEGIN:VEVENT
UID:69ea546787c44
DTSTAMP:20260423T181831
DTSTART:20240117T200000Z
DTEND:20240117T223000Z
TZID:Europe/Paris
LOCATION:
SUMMARY:mercredi 17 janvier 2024 à 20h : concert "10 Ans déjà !" avec 13 musiciens
DESCRIPTION: DATE : mercredi 17 janvier 2024 à 20h00 LIEU&nbsp;: Le Domaine de l'Ile Barbe - 1 place Henri Barbusse - 69009 Lyon (quais de Saône - entrée du musée Jean COUTY) - bus 31 et 43 TARIF normal : 18€ (étudiants : 12€)réservation obligatoire sur HelloAsso https://www.helloasso.com/associations/paroles-et-musique-lyon/evenements/dix-ans-deja Possibilité de bénéficier[..]\nhttps://parolesetmusique-lyon.org/?ajde_events=mercredi-17-janvier-2024-a-20h-10-ans-deja
URL:https://parolesetmusique-lyon.org/?ajde_events=mercredi-17-janvier-2024-a-20h-10-ans-deja
END:VEVENT
END:VCALENDAR