BEGIN:VCALENDAR
VERSION:2.0
PRODID:-//eventon.com NONSGML v1.0//EN
BEGIN:VEVENT
UID:69ea3a1b210a6
DTSTAMP:20260423T162619
DTSTART:20230830T081600Z
DTEND:20230830T081600Z
TZID:Europe/Paris
LOCATION:
SUMMARY:Dimanche 1er octobre à 15h : Concert "ELLES" a cappella
DESCRIPTION: Le Jeune Choeur symphonique donnera le dimanche 1er octobre à 15hun concert a cappella\,  accompagné à l’orgue par Pierre-Yves Fleury. Clara Baget\,  chef assistante pour le JCS\,  a conçu ce programme autour de la figure féminine. La poésie\,  les voix de femmes\,  les oeuvres de compositrices jalonneront ce moment suspendu.[..]\nhttps://parolesetmusique-lyon.org/?ajde_events=essai-1er-octobre-brouillon
URL:https://parolesetmusique-lyon.org/?ajde_events=essai-1er-octobre-brouillon
END:VEVENT
END:VCALENDAR