BEGIN:VCALENDAR
VERSION:2.0
PRODID:-//eventon.com NONSGML v1.0//EN
BEGIN:VEVENT
UID:69ea234c553ad
DTSTAMP:20260423T144900
DTSTART:20240929T153000Z
DTEND:20240929T200000Z
TZID:Europe/Paris
LOCATION:Saint-Didier-Au-Mont-d’Or 16 ter\,  rue du commandant Israël 69 370- St Cyr au Mont d'Or.
SUMMARY:Concert flûte et harpe
DESCRIPTION: Venez à la découverte de l'Association! Nos jeunes musiciennes pour ce concert seront: Fanny Martin\,  flûteFlora Antropius\,  harpe au programme:Donizetti\,  Saint-Saëns\,  Debussy\,  Puccini à 15h30 Assemblée générale de notre association (réservée aux adhérents)à 16h Concert suivi d'un verre de l'amitié Le concert aura lieu chez un aimable soutien de nos[..]\nhttps://parolesetmusique-lyon.org/?ajde_events=concert-flute-et-harpe
URL:https://parolesetmusique-lyon.org/?ajde_events=concert-flute-et-harpe
END:VEVENT
END:VCALENDAR