BEGIN:VCALENDAR
VERSION:2.0
PRODID:-//eventon.com NONSGML v1.0//EN
BEGIN:VEVENT
UID:69ea0abc57476
DTSTAMP:20260423T130412
DTSTART:20241120T200000Z
DTEND:20241120T220000Z
TZID:Europe/Paris
LOCATION:Goethe Institut 18 rue François Dauphin 69002 Lyon
SUMMARY:Duo Pulsation
DESCRIPTION: Venez écouter ce duo au parfait équilibre entre un violoncelle qui chante et un piano romantique dans un répertoire Brahms et Grieg\,  deux compositeurs contemporains empruntant pourtant un langage différent. Violoncelle et piano au programme : Sonate de BRAHMS (numéro 1) et sonate de GRIEG Adrienne AUCLAIR : violoncelleAdrien IRANKHAH[..]\nhttps://parolesetmusique-lyon.org/?ajde_events=duo-pulsation
URL:https://parolesetmusique-lyon.org/?ajde_events=duo-pulsation
END:VEVENT
END:VCALENDAR